BEGIN:VCALENDAR
VERSION:2.0
PRODID:-//www.epiphanytally.org//NONSGML kigkonsult.se iCalcreator 2.39.1//
CALSCALE:GREGORIAN
METHOD:PUBLISH
UID:fe0018db-4b82-4184-b53a-2711944b7748
X-WR-CALNAME:www.epiphanytally.org
X-WR-CALDESC:www.epiphanytally.org
X-WR-TIMEZONE:America/Los_Angeles
X-LIC-LOCATION:America/Los_Angeles
BEGIN:VEVENT
UID:b3c27256-795b-419c-867f-5a5674cf1087
DTSTAMP:20260421T090551Z
CLASS:PUBLIC
DTSTART;TZID=America/Los_Angeles:20260421T090000
DTEND;TZID=America/Los_Angeles:20260421T110000
SUMMARY:Mission Quilters Group
TRANSP:OPAQUE
BEGIN:VALARM
ACTION:DISPLAY
DESCRIPTION:Mission Quilters Group
TRIGGER:-PT15M
END:VALARM
END:VEVENT
END:VCALENDAR
